BEGIN:VCALENDAR
VERSION:2.0
PRODID:-//Kirchspiel Holzhausen - ECPv6.15.20//NONSGML v1.0//EN
CALSCALE:GREGORIAN
METHOD:PUBLISH
X-WR-CALNAME:Kirchspiel Holzhausen
X-ORIGINAL-URL:https://kirche-holzhausen.de
X-WR-CALDESC:Veranstaltungen für Kirchspiel Holzhausen
REFRESH-INTERVAL;VALUE=DURATION:PT1H
X-Robots-Tag:noindex
X-PUBLISHED-TTL:PT1H
BEGIN:VTIMEZONE
TZID:Europe/Berlin
BEGIN:DAYLIGHT
TZOFFSETFROM:+0100
TZOFFSETTO:+0200
TZNAME:CEST
DTSTART:20230326T010000
END:DAYLIGHT
BEGIN:STANDARD
TZOFFSETFROM:+0200
TZOFFSETTO:+0100
TZNAME:CET
DTSTART:20231029T010000
END:STANDARD
BEGIN:DAYLIGHT
TZOFFSETFROM:+0100
TZOFFSETTO:+0200
TZNAME:CEST
DTSTART:20240331T010000
END:DAYLIGHT
BEGIN:STANDARD
TZOFFSETFROM:+0200
TZOFFSETTO:+0100
TZNAME:CET
DTSTART:20241027T010000
END:STANDARD
BEGIN:DAYLIGHT
TZOFFSETFROM:+0100
TZOFFSETTO:+0200
TZNAME:CEST
DTSTART:20250330T010000
END:DAYLIGHT
BEGIN:STANDARD
TZOFFSETFROM:+0200
TZOFFSETTO:+0100
TZNAME:CET
DTSTART:20251026T010000
END:STANDARD
END:VTIMEZONE
BEGIN:VEVENT
DTSTART;TZID=Europe/Berlin:20240908T080000
DTEND;TZID=Europe/Berlin:20240908T170000
DTSTAMP:20260421T024459
CREATED:20240625T193313Z
LAST-MODIFIED:20240625T193433Z
UID:10853-1725782400-1725814800@kirche-holzhausen.de
SUMMARY:Gottesdienst zum "Tag des offenen Denkmals" um 10.00 Uhr in Holzhausen und um 11.15 Uhr in Wilhelmshausen mit Pfarrer Brandt
DESCRIPTION:
URL:https://kirche-holzhausen.de/veranstaltung/gottesdienst-zum-tag-de-offenen-denkmals-um-10-00-uhr-in-holzhausen-und-um-11-15-uhr-in-wilhelmshausen-mit-pfarrer-brandt/
CATEGORIES:Gottesdienst
END:VEVENT
END:VCALENDAR