BEGIN:VCALENDAR
VERSION:2.0
PRODID:-//Kirchspiel Holzhausen - ECPv6.15.20//NONSGML v1.0//EN
CALSCALE:GREGORIAN
METHOD:PUBLISH
X-ORIGINAL-URL:https://kirche-holzhausen.de
X-WR-CALDESC:Veranstaltungen für Kirchspiel Holzhausen
REFRESH-INTERVAL;VALUE=DURATION:PT1H
X-Robots-Tag:noindex
X-PUBLISHED-TTL:PT1H
BEGIN:VTIMEZONE
TZID:Europe/Berlin
BEGIN:DAYLIGHT
TZOFFSETFROM:+0100
TZOFFSETTO:+0200
TZNAME:CEST
DTSTART:20230326T010000
END:DAYLIGHT
BEGIN:STANDARD
TZOFFSETFROM:+0200
TZOFFSETTO:+0100
TZNAME:CET
DTSTART:20231029T010000
END:STANDARD
BEGIN:DAYLIGHT
TZOFFSETFROM:+0100
TZOFFSETTO:+0200
TZNAME:CEST
DTSTART:20240331T010000
END:DAYLIGHT
BEGIN:STANDARD
TZOFFSETFROM:+0200
TZOFFSETTO:+0100
TZNAME:CET
DTSTART:20241027T010000
END:STANDARD
BEGIN:DAYLIGHT
TZOFFSETFROM:+0100
TZOFFSETTO:+0200
TZNAME:CEST
DTSTART:20250330T010000
END:DAYLIGHT
BEGIN:STANDARD
TZOFFSETFROM:+0200
TZOFFSETTO:+0100
TZNAME:CET
DTSTART:20251026T010000
END:STANDARD
END:VTIMEZONE
BEGIN:VEVENT
DTSTART;TZID=Europe/Berlin:20241124T080000
DTEND;TZID=Europe/Berlin:20241124T170000
DTSTAMP:20260420T211402
CREATED:20241030T210728Z
LAST-MODIFIED:20241030T210729Z
UID:11148-1732435200-1732467600@kirche-holzhausen.de
SUMMARY:Gottesdienst zum Ewigkeitssonntag mit Pfarrer Brandt um 10.00 Uhr in Holzhausen\, um 11.15 Uhr in Wilhelmshausen und um 13.00 Uhr in Knickhagen
DESCRIPTION:
URL:https://kirche-holzhausen.de/veranstaltung/gottesdienst-zum-ewigkeitssonntag-mit-pfarrer-brandt-um-10-00-uhr-in-holzhausen-um-11-15-uhr-in-wilhelmshausen-und-um-13-00-uhr-in-knickhagen/
CATEGORIES:Gottesdienst
END:VEVENT
END:VCALENDAR