BEGIN:VCALENDAR
VERSION:2.0
PRODID:-//Kirchspiel Holzhausen - ECPv6.15.20//NONSGML v1.0//EN
CALSCALE:GREGORIAN
METHOD:PUBLISH
X-WR-CALNAME:Kirchspiel Holzhausen
X-ORIGINAL-URL:https://kirche-holzhausen.de
X-WR-CALDESC:Veranstaltungen für Kirchspiel Holzhausen
REFRESH-INTERVAL;VALUE=DURATION:PT1H
X-Robots-Tag:noindex
X-PUBLISHED-TTL:PT1H
BEGIN:VTIMEZONE
TZID:Europe/Berlin
BEGIN:DAYLIGHT
TZOFFSETFROM:+0100
TZOFFSETTO:+0200
TZNAME:CEST
DTSTART:20230326T010000
END:DAYLIGHT
BEGIN:STANDARD
TZOFFSETFROM:+0200
TZOFFSETTO:+0100
TZNAME:CET
DTSTART:20231029T010000
END:STANDARD
BEGIN:DAYLIGHT
TZOFFSETFROM:+0100
TZOFFSETTO:+0200
TZNAME:CEST
DTSTART:20240331T010000
END:DAYLIGHT
BEGIN:STANDARD
TZOFFSETFROM:+0200
TZOFFSETTO:+0100
TZNAME:CET
DTSTART:20241027T010000
END:STANDARD
BEGIN:DAYLIGHT
TZOFFSETFROM:+0100
TZOFFSETTO:+0200
TZNAME:CEST
DTSTART:20250330T010000
END:DAYLIGHT
BEGIN:STANDARD
TZOFFSETFROM:+0200
TZOFFSETTO:+0100
TZNAME:CET
DTSTART:20251026T010000
END:STANDARD
END:VTIMEZONE
BEGIN:VEVENT
DTSTART;TZID=Europe/Berlin:20240602T080000
DTEND;TZID=Europe/Berlin:20240602T170000
DTSTAMP:20260423T202540
CREATED:20240211T130404Z
LAST-MODIFIED:20240530T114037Z
UID:10436-1717315200-1717347600@kirche-holzhausen.de
SUMMARY:Gottesdienst zum Jubiläum der Stiftung Marienbasilika um 14.00 Uhr
DESCRIPTION:
URL:https://kirche-holzhausen.de/veranstaltung/gottesdienst-zum-jubilaeum-der-stiftung-marienbasilika/
CATEGORIES:Besonderer Gottesdienst,Freizeit,Gottesdienst,Veranstaltungen
END:VEVENT
BEGIN:VEVENT
DTSTART;TZID=Europe/Berlin:20240609T080000
DTEND;TZID=Europe/Berlin:20240609T170000
DTSTAMP:20260423T202540
CREATED:20240211T130534Z
LAST-MODIFIED:20240211T130536Z
UID:10438-1717920000-1717952400@kirche-holzhausen.de
SUMMARY:Konfirmationsgottesdienst in Wilhelmshausen mit Abendmahl um 10.00 Uhr
DESCRIPTION:
URL:https://kirche-holzhausen.de/veranstaltung/konfirmationsgottesdienst-in-wilhelmshausen-mit-abendmahl-um-10-00-uhr/
CATEGORIES:Angebot für Teens,Besonderer Gottesdienst,Gottesdienst
END:VEVENT
BEGIN:VEVENT
DTSTART;TZID=Europe/Berlin:20240616T080000
DTEND;TZID=Europe/Berlin:20240616T170000
DTSTAMP:20260423T202540
CREATED:20240211T130617Z
LAST-MODIFIED:20240211T130619Z
UID:10440-1718524800-1718557200@kirche-holzhausen.de
SUMMARY:Konfirmationsgottesdienst in Holzhausen mit Abendmahl um 10.00 Uhr
DESCRIPTION:
URL:https://kirche-holzhausen.de/veranstaltung/konfirmationsgottesdienst-in-holzhausen-mit-abendmahl-um-10-00-uhr/
CATEGORIES:Besonderer Gottesdienst,Gottesdienst
END:VEVENT
BEGIN:VEVENT
DTSTART;TZID=Europe/Berlin:20240623T080000
DTEND;TZID=Europe/Berlin:20240623T170000
DTSTAMP:20260423T202540
CREATED:20240602T110004Z
LAST-MODIFIED:20240602T110010Z
UID:10733-1719129600-1719162000@kirche-holzhausen.de
SUMMARY:Gottesdienst um 10 Uhr in Holzhausen und um 11.15 Uhr in Knickhagen mit Lektor Tetlef Althaus
DESCRIPTION:
URL:https://kirche-holzhausen.de/veranstaltung/gottesdienst-um-10-uhr-in-holzhausen-und-um-11-15-uhr-in-knickhagen-mit-lektor-tetlef-althaus-2/
CATEGORIES:Gottesdienst,Veranstaltungen
END:VEVENT
BEGIN:VEVENT
DTSTART;TZID=Europe/Berlin:20240630T080000
DTEND;TZID=Europe/Berlin:20240630T170000
DTSTAMP:20260423T202540
CREATED:20240602T110153Z
LAST-MODIFIED:20240625T183054Z
UID:10735-1719734400-1719766800@kirche-holzhausen.de
SUMMARY:Gottesdienst um 10.00 Uhr in Holzhausen und um 11.15 Uhr in Knickhagen mit Pfarrer Brandt
DESCRIPTION:
URL:https://kirche-holzhausen.de/veranstaltung/kirchspiel-gottesdienst-um-10-uhr-in-holzhausen-mit-pfarrer-brandt/
CATEGORIES:Gottesdienst
END:VEVENT
END:VCALENDAR