BEGIN:VCALENDAR
VERSION:2.0
PRODID:-//Kirchspiel Holzhausen - ECPv6.15.20//NONSGML v1.0//EN
CALSCALE:GREGORIAN
METHOD:PUBLISH
X-ORIGINAL-URL:https://kirche-holzhausen.de
X-WR-CALDESC:Veranstaltungen für Kirchspiel Holzhausen
REFRESH-INTERVAL;VALUE=DURATION:PT1H
X-Robots-Tag:noindex
X-PUBLISHED-TTL:PT1H
BEGIN:VTIMEZONE
TZID:Europe/Berlin
BEGIN:DAYLIGHT
TZOFFSETFROM:+0100
TZOFFSETTO:+0200
TZNAME:CEST
DTSTART:20230326T010000
END:DAYLIGHT
BEGIN:STANDARD
TZOFFSETFROM:+0200
TZOFFSETTO:+0100
TZNAME:CET
DTSTART:20231029T010000
END:STANDARD
BEGIN:DAYLIGHT
TZOFFSETFROM:+0100
TZOFFSETTO:+0200
TZNAME:CEST
DTSTART:20240331T010000
END:DAYLIGHT
BEGIN:STANDARD
TZOFFSETFROM:+0200
TZOFFSETTO:+0100
TZNAME:CET
DTSTART:20241027T010000
END:STANDARD
BEGIN:DAYLIGHT
TZOFFSETFROM:+0100
TZOFFSETTO:+0200
TZNAME:CEST
DTSTART:20250330T010000
END:DAYLIGHT
BEGIN:STANDARD
TZOFFSETFROM:+0200
TZOFFSETTO:+0100
TZNAME:CET
DTSTART:20251026T010000
END:STANDARD
END:VTIMEZONE
BEGIN:VEVENT
DTSTART;TZID=Europe/Berlin:20240804T080000
DTEND;TZID=Europe/Berlin:20240804T170000
DTSTAMP:20260421T073640
CREATED:20240625T192627Z
LAST-MODIFIED:20240625T192629Z
UID:10845-1722758400-1722790800@kirche-holzhausen.de
SUMMARY:Gottesdienst um 10.00 Uhr in Holzhausen und um 11.15 Uhr in Knickhagen mit Pfarrer Brandt
DESCRIPTION:
URL:https://kirche-holzhausen.de/veranstaltung/gottesdienst-um-10-00-uhr-in-holzhausen-und-um-11-15-uhr-in-knickhagen-mit-pfarrer-brandt-3/
CATEGORIES:Gottesdienst
END:VEVENT
BEGIN:VEVENT
DTSTART;TZID=Europe/Berlin:20240811T080000
DTEND;TZID=Europe/Berlin:20240811T170000
DTSTAMP:20260421T073640
CREATED:20240625T192742Z
LAST-MODIFIED:20240625T192744Z
UID:10847-1723363200-1723395600@kirche-holzhausen.de
SUMMARY:Abend-Gottesdienst um 18.00 Uhr in Wilhelmshausen und um 19.00 Uhr in Holzhausen mit Lektorin Rita Schlaugat
DESCRIPTION:
URL:https://kirche-holzhausen.de/veranstaltung/abend-gottesdienst-um-18-00-uhr-in-wilhelmshausen-und-um-19-00-uhr-in-holzhausen-mit-lektorin-rita-schlaugat/
CATEGORIES:Gottesdienst
END:VEVENT
BEGIN:VEVENT
DTSTART;TZID=Europe/Berlin:20240818T080000
DTEND;TZID=Europe/Berlin:20240818T170000
DTSTAMP:20260421T073640
CREATED:20240625T192850Z
LAST-MODIFIED:20240625T192852Z
UID:10849-1723968000-1724000400@kirche-holzhausen.de
SUMMARY:Gottesdienst um 10.00 Uhr in Holzhausen und um 11.15 Uhr in Knickhagen mit Dekanin i. R. Laakmann
DESCRIPTION:
URL:https://kirche-holzhausen.de/veranstaltung/gottesdienst-um-10-00-uhr-in-holzhausen-und-um-11-15-uhr-in-knickhagen-mit-dekanin-i-r-laakmann/
CATEGORIES:Gottesdienst
END:VEVENT
BEGIN:VEVENT
DTSTART;TZID=Europe/Berlin:20240825T080000
DTEND;TZID=Europe/Berlin:20240825T170000
DTSTAMP:20260421T073640
CREATED:20240625T193006Z
LAST-MODIFIED:20240625T193008Z
UID:10851-1724572800-1724605200@kirche-holzhausen.de
SUMMARY:Gottesdienst um 10.00 Uhr in Holzhausen und um 11.15 Uhr in Wilhelmshausen mit Lektor Tetlef Althaus
DESCRIPTION:
URL:https://kirche-holzhausen.de/veranstaltung/gottesdienst-um-10-00-uhr-in-holzhausen-und-um-11-15-uhr-in-wilhelmshausen-mit-lektor-tetlef-althaus/
CATEGORIES:Gottesdienst
END:VEVENT
END:VCALENDAR