BEGIN:VCALENDAR
VERSION:2.0
PRODID:-//Kirchspiel Holzhausen - ECPv6.15.20//NONSGML v1.0//EN
CALSCALE:GREGORIAN
METHOD:PUBLISH
X-WR-CALNAME:Kirchspiel Holzhausen
X-ORIGINAL-URL:https://kirche-holzhausen.de
X-WR-CALDESC:Veranstaltungen für Kirchspiel Holzhausen
REFRESH-INTERVAL;VALUE=DURATION:PT1H
X-Robots-Tag:noindex
X-PUBLISHED-TTL:PT1H
BEGIN:VTIMEZONE
TZID:Europe/Berlin
BEGIN:DAYLIGHT
TZOFFSETFROM:+0100
TZOFFSETTO:+0200
TZNAME:CEST
DTSTART:20230326T010000
END:DAYLIGHT
BEGIN:STANDARD
TZOFFSETFROM:+0200
TZOFFSETTO:+0100
TZNAME:CET
DTSTART:20231029T010000
END:STANDARD
BEGIN:DAYLIGHT
TZOFFSETFROM:+0100
TZOFFSETTO:+0200
TZNAME:CEST
DTSTART:20240331T010000
END:DAYLIGHT
BEGIN:STANDARD
TZOFFSETFROM:+0200
TZOFFSETTO:+0100
TZNAME:CET
DTSTART:20241027T010000
END:STANDARD
BEGIN:DAYLIGHT
TZOFFSETFROM:+0100
TZOFFSETTO:+0200
TZNAME:CEST
DTSTART:20250330T010000
END:DAYLIGHT
BEGIN:STANDARD
TZOFFSETFROM:+0200
TZOFFSETTO:+0100
TZNAME:CET
DTSTART:20251026T010000
END:STANDARD
END:VTIMEZONE
BEGIN:VEVENT
DTSTART;TZID=Europe/Berlin:20240901T080000
DTEND;TZID=Europe/Berlin:20240901T170000
DTSTAMP:20260421T010144
CREATED:20240211T130803Z
LAST-MODIFIED:20240816T085316Z
UID:10444-1725177600-1725210000@kirche-holzhausen.de
SUMMARY:TSV-Fest-Gottesdienst um 10.30 Uhr in Wilhelmshausen auf dem Sportplatz
DESCRIPTION:
URL:https://kirche-holzhausen.de/veranstaltung/festgottesdienst-beim-tsv-wilhelmshausen/
CATEGORIES:Gottesdienst
END:VEVENT
BEGIN:VEVENT
DTSTART;TZID=Europe/Berlin:20240907T190000
DTEND;TZID=Europe/Berlin:20240907T213000
DTSTAMP:20260421T010144
CREATED:20240826T195626Z
LAST-MODIFIED:20240826T195628Z
UID:11109-1725735600-1725744600@kirche-holzhausen.de
SUMMARY:Pindakaas Saxophon Quartett zu Gast in der Marienbasilika um 19.00 Uhr
DESCRIPTION:
URL:https://kirche-holzhausen.de/veranstaltung/pindakaas-saxophon-quartett-zu-gast-in-der-marienbasilika-um-19-00-uhr/
CATEGORIES:Konzert
END:VEVENT
BEGIN:VEVENT
DTSTART;TZID=Europe/Berlin:20240908T080000
DTEND;TZID=Europe/Berlin:20240908T170000
DTSTAMP:20260421T010144
CREATED:20240625T193313Z
LAST-MODIFIED:20240625T193433Z
UID:10853-1725782400-1725814800@kirche-holzhausen.de
SUMMARY:Gottesdienst zum "Tag des offenen Denkmals" um 10.00 Uhr in Holzhausen und um 11.15 Uhr in Wilhelmshausen mit Pfarrer Brandt
DESCRIPTION:
URL:https://kirche-holzhausen.de/veranstaltung/gottesdienst-zum-tag-de-offenen-denkmals-um-10-00-uhr-in-holzhausen-und-um-11-15-uhr-in-wilhelmshausen-mit-pfarrer-brandt/
CATEGORIES:Gottesdienst
END:VEVENT
BEGIN:VEVENT
DTSTART;TZID=Europe/Berlin:20240912T080000
DTEND;TZID=Europe/Berlin:20240915T170000
DTSTAMP:20260421T010144
CREATED:20240211T130848Z
LAST-MODIFIED:20240211T130851Z
UID:10446-1726128000-1726419600@kirche-holzhausen.de
SUMMARY:Konfi-Camp des Kirchenkreises
DESCRIPTION:
URL:https://kirche-holzhausen.de/veranstaltung/konfi-camp-des-kirchenkreises/
CATEGORIES:Angebot für Teens,Veranstaltungen
END:VEVENT
BEGIN:VEVENT
DTSTART;TZID=Europe/Berlin:20240915T080000
DTEND;TZID=Europe/Berlin:20240915T170000
DTSTAMP:20260421T010144
CREATED:20240723T142814Z
LAST-MODIFIED:20240723T142816Z
UID:10920-1726387200-1726419600@kirche-holzhausen.de
SUMMARY:Gottesdienst um 10.00 Uhr in Holzhausen und um 11.15 Uhr in Knickhagen mit Pfarrerin Eva Hillebold
DESCRIPTION:
URL:https://kirche-holzhausen.de/veranstaltung/gottesdienst-um-10-00-uhr-in-holzhausen-und-um-11-15-uhr-in-knickhagen-mit-pfarrerin-eva-hillebold/
CATEGORIES:Gottesdienst
END:VEVENT
BEGIN:VEVENT
DTSTART;TZID=Europe/Berlin:20240922T080000
DTEND;TZID=Europe/Berlin:20240922T170000
DTSTAMP:20260421T010144
CREATED:20240821T202627Z
LAST-MODIFIED:20240821T202629Z
UID:11067-1726992000-1727024400@kirche-holzhausen.de
SUMMARY:Gottesdienst um 10.00 Uhr in Holzhausen mit Prädikant Tanzer und um 11.15 Uhr Taufgottesdienst in Wilhelmshausen mit Pfarrer Hocke
DESCRIPTION:
URL:https://kirche-holzhausen.de/veranstaltung/gottesdienst-um-10-00-uhr-in-holzhausen-mit-praedikant-tanzer-und-um-11-15-uhr-taufgottesdienst-in-wilhelmshausen-mit-pfarrer-hocke-2/
CATEGORIES:Gottesdienst
END:VEVENT
BEGIN:VEVENT
DTSTART;TZID=Europe/Berlin:20240929T080000
DTEND;TZID=Europe/Berlin:20240929T170000
DTSTAMP:20260421T010144
CREATED:20240821T202427Z
LAST-MODIFIED:20240821T202429Z
UID:11065-1727596800-1727629200@kirche-holzhausen.de
SUMMARY:Erntedank-Gottesdienst um 10.00 Uhr in Wilhelmshausen mit Vorstellung der neuen Konfirmanden mit Pfarrer Brandt\, Gottesdienst um 11.15 Uhr in Knickhagen mit Pfarrer Brandt
DESCRIPTION:
URL:https://kirche-holzhausen.de/veranstaltung/erntedank-gottesdienst-um-10-00-uhr-in-wilhelmshausen-mit-vorstellung-der-neuen-konfirmanden-mit-pfarrer-brandt-gottesdienst-um-11-15-uhr-in-knickhagen-mit-pfarrer-brandt/
CATEGORIES:Gottesdienst
END:VEVENT
END:VCALENDAR