BEGIN:VCALENDAR
VERSION:2.0
PRODID:-//Kirchspiel Holzhausen - ECPv6.15.20//NONSGML v1.0//EN
CALSCALE:GREGORIAN
METHOD:PUBLISH
X-WR-CALNAME:Kirchspiel Holzhausen
X-ORIGINAL-URL:https://kirche-holzhausen.de
X-WR-CALDESC:Veranstaltungen für Kirchspiel Holzhausen
REFRESH-INTERVAL;VALUE=DURATION:PT1H
X-Robots-Tag:noindex
X-PUBLISHED-TTL:PT1H
BEGIN:VTIMEZONE
TZID:Europe/Helsinki
BEGIN:DAYLIGHT
TZOFFSETFROM:+0200
TZOFFSETTO:+0300
TZNAME:EEST
DTSTART:20150329T010000
END:DAYLIGHT
BEGIN:STANDARD
TZOFFSETFROM:+0300
TZOFFSETTO:+0200
TZNAME:EET
DTSTART:20151025T010000
END:STANDARD
BEGIN:DAYLIGHT
TZOFFSETFROM:+0200
TZOFFSETTO:+0300
TZNAME:EEST
DTSTART:20160327T010000
END:DAYLIGHT
BEGIN:STANDARD
TZOFFSETFROM:+0300
TZOFFSETTO:+0200
TZNAME:EET
DTSTART:20161030T010000
END:STANDARD
BEGIN:DAYLIGHT
TZOFFSETFROM:+0200
TZOFFSETTO:+0300
TZNAME:EEST
DTSTART:20170326T010000
END:DAYLIGHT
BEGIN:STANDARD
TZOFFSETFROM:+0300
TZOFFSETTO:+0200
TZNAME:EET
DTSTART:20171029T010000
END:STANDARD
END:VTIMEZONE
BEGIN:VEVENT
DTSTART;TZID=Europe/Helsinki:20161101T193000
DTEND;TZID=Europe/Helsinki:20161101T213000
DTSTAMP:20260420T215938
CREATED:20160916T203342Z
LAST-MODIFIED:20160916T205432Z
UID:2599-1478028600-1478035800@kirche-holzhausen.de
SUMMARY:Förderkreis für Kinder- und Jugendarbeit
DESCRIPTION:
URL:https://kirche-holzhausen.de/veranstaltung/foerderkreis-fuer-kinder-und-jugendarbeit/
LOCATION:Ev. Gemeindehaus Holzhausen\, Am Wolfsgarten 10\, Immenhausen-Holzhausen\, 34376
CATEGORIES:Kinder-und Jugendarbeit
END:VEVENT
END:VCALENDAR